BEGIN:VCALENDAR
VERSION:2.0
PRODID:-//Eventin//Event Calendar//EN
CALSCALE:GREGORIAN
METHOD:PUBLISH
BEGIN:VEVENT
UID:af38b520580c9d767701e04f8e591e8e@v-itmi.com
SUMMARY:CompTIA Cloud+ "Fast-Track Training"
DESCRIPTION:Course Description:\nThe CompTIA Cloud+ training program is des
 igned to equip IT professionals with the practical skills required to deplo
 y\, manage\, and secure cloud infrastructure in modern enterprise environme
 nts. As organizations increasingly migrate critical systems to the cloud\, 
 professionals with strong cloud administration and troubleshooting skills a
 re in high demand.\nThis fast-track\, part-time training program provides a
  comprehensive understanding of cloud architecture\, virtualization technol
 ogies\, cloud networking\, storage solutions\, automation\, and security pr
 actices. The course focuses on real-world scenarios to help participants de
 velop the ability to implement and maintain cloud solutions across differen
 t platforms.\nParticipants will gain hands-on knowledge in managing cloud e
 nvironments\, ensuring high availability\, optimizing performance\, and mai
 ntaining security and compliance. The training also prepares candidates for
  the CompTIA Cloud+ Certification Exam (CV0‑004)\, an industry-recognized
  certification validating cloud infrastructure expertise.\nThis program is 
 ideal for professionals seeking to strengthen their cloud computing capabil
 ities and advance their careers in cloud administration\, infrastructure ma
 nagement\, and DevOps environments.\nWho Should Attend\nThis training progr
 am is ideal for:\n\n\nSystem Administrators\n\n\nNetwork Administrators\n\n
 \nCloud Engineers and Cloud Support Specialists\n\n\nIT Professionals worki
 ng with virtualization or cloud infrastructure\n\n\nDevOps professionals ma
 naging cloud environments\n\n\nIndividuals preparing for the CompTIA Cloud+
  Certification Exam (CV0-004)\n\n\n\nLearning Outcomes\nBy the end of this 
 course\, participants will be able to:\n\n\nUnderstand cloud architecture a
 nd deployment models\n\n\nImplement and manage cloud networking and storage
  solutions\n\n\nConfigure and manage virtualization technologies\n\n\nMonit
 or cloud infrastructure performance and availability\n\n\nImplement cloud s
 ecurity controls and compliance measures\n\n\nAutomate cloud operations and
  manage resource provisioning\n\n\nTroubleshoot cloud infrastructure issues
  in enterprise environments\n\n\n\nCourse Modules\nThe course covers the fo
 llowing key areas aligned with the **CompTIA Cloud+ certification objective
 s:\n1. Cloud Architecture & Design\n\n\nCloud concepts and service models\n
 \n\nHigh availability and scalability design\n\n\nCapacity planning\n\n\n2.
  Deployment & Configuration\n\n\nCloud deployment strategies\n\n\nVirtual m
 achines and containerization\n\n\nNetwork configuration and integration\n\n
 \n3. Cloud Security\n\n\nIdentity and access management\n\n\nData protectio
 n and encryption\n\n\nSecurity policies and compliance\n\n\n4. Operations &
  Support\n\n\nMonitoring and logging\n\n\nBackup and disaster recovery\n\n\
 nPerformance optimization\n\n\n5. Troubleshooting\n\n\nIdentifying infrastr
 ucture issues\n\n\nNetwork and connectivity troubleshooting\n\n\nSecurity a
 nd performance problem resolution\n\n\n\nTraining Methodology\nThe training
  is delivered using a practical and engaging learning approach\, including:
 \n\n\nInstructor-led sessions\n\n\nReal-world case studies\n\n\nHands-on de
 monstrations\n\n\nInteractive discussions\n\n\nExam preparation guidance\n\
 n\nThis fast-track part-time program allows working professionals to upgrad
 e their cloud skills without interrupting their full-time commitments.\n\nP
 rerequisites\nParticipants are recommended to have:\n\n\nBasic understandin
 g of networking concepts\n\n\nExperience with system administration or IT i
 nfrastructure\n\n\nFamiliarity with virtualization technologies\n\n\nPrior 
 certifications such as CompTIA Network+ or CompTIA Server+ may be beneficia
 l but are not mandatory.\n\nCertification\nUpon completion of the training\
 , participants will be prepared to attempt the CompTIA Cloud+ Certification
  Exam (CV0-004)\, which validates the ability to deploy\, manage\, and trou
 bleshoot cloud infrastructure services.\n\nCareer Opportunities\nProfession
 als with **CompTIA Cloud+ certification can pursue roles such as:\n\n\nClou
 d Administrator\n\n\nCloud Engineer\n\n\nSystems Engineer\n\n\nDevOps Engin
 eer\n\n\nInfrastructure Specialist\n\n\nThe certification is recognized glo
 bally and supports career advancement in organizations adopting cloud techn
 ologies.
LOCATION:VEGA Institute\, 43-BND Building\, St. Jean Road\, Quatre Bornes\,
  Mauritius
DTSTAMP:20260423T142750Z
DTSTART:20260411T050000Z
DTEND:20260509T010000Z
END:VEVENT
END:VCALENDAR
