BEGIN:VCALENDAR
VERSION:2.0
PRODID:-//Eventin//Event Calendar//EN
CALSCALE:GREGORIAN
METHOD:PUBLISH
BEGIN:VEVENT
UID:5c531b4f676201aed8c84e172effcec3@v-itmi.com
SUMMARY:CompTIA A+ Cyber "Fast-Track Training"
DESCRIPTION:Course Description\nThe CompTIA A+ Cyber Training Program provi
 des a strong foundation in IT support\, computer systems\, and cybersecurit
 y fundamentals. This program is designed for individuals who want to begin 
 a career in IT while developing essential security awareness and technical 
 troubleshooting skills.\nDelivered in a fast-track\, part-time format\, the
  training covers core topics such as computer hardware\, operating systems\
 , networking basics\, device configuration\, and cybersecurity principles. 
 Participants will gain practical knowledge required to support modern IT en
 vironments while understanding how to identify and respond to common securi
 ty threats.\nThe program prepares learners for the globally recognized Comp
 TIA A+ Certification Exams (Core 1 – 220-1101 & Core 2 – 220-1102)\, wi
 dely considered the starting point for careers in IT support and cybersecur
 ity.\n\nWho Should Attend\nThis training program is suitable for:\n\n\nBegi
 nners seeking a career in IT or cybersecurity\n\n\nStudents interested in I
 T support and technical careers\n\n\nIndividuals transitioning into the tec
 hnology sector\n\n\nIT support staff looking to strengthen cybersecurity aw
 areness\n\n\nProfessionals preparing for the **CompTIA A+ certification\n\n
 \n\nLearning Outcomes\nBy the end of the course\, participants will be able
  to:\n\n\nUnderstand computer hardware and device components\n\n\nInstall a
 nd configure operating systems\n\n\nPerform basic networking configuration 
 and troubleshooting\n\n\nApply cybersecurity best practices for endpoint pr
 otection\n\n\nIdentify common malware and security threats\n\n\nSupport use
 rs in modern IT environments\n\n\nTroubleshoot common hardware\, software\,
  and network issues\n\n\n\nCourse Modules\n1. Hardware Fundamentals\n\n\nPC
  components and peripherals\n\n\nMobile devices and hardware installation\n
 \n\nDevice configuration and troubleshooting\n\n\n2. Operating Systems\n\n\
 nInstallation and configuration of operating systems\n\n\nSystem utilities 
 and management tools\n\n\nOS security and maintenance\n\n\n3. Networking Ba
 sics\n\n\nNetwork concepts and protocols\n\n\nIP addressing and connectivit
 y\n\n\nWireless networking fundamentals\n\n\n4. Cybersecurity Fundamentals\
 n\n\nSecurity threats and vulnerabilities\n\n\nMalware protection and endpo
 int security\n\n\nAccess control and authentication methods\n\n\n5. Trouble
 shooting & IT Support\n\n\nHardware and software troubleshooting\n\n\nNetwo
 rk connectivity issues\n\n\nIT support best practices\n\n\n\nTraining Metho
 dology\nThe course is delivered through:\n\n\nInstructor-led sessions\n\n\n
 Hands-on demonstrations\n\n\nPractical exercises and troubleshooting scenar
 ios\n\n\nReal-world IT support case studies\n\n\nCertification exam prepara
 tion guidance\n\n\nThe part-time fast-track structure enables participants 
 to gain job-ready IT skills while balancing work or studies.\n\nPrerequisit
 es\nThere are no formal prerequisites for the **CompTIA A+ certification. H
 owever\, basic computer familiarity will be helpful for participants.\n\nCe
 rtification\nAfter completing the training\, participants will be prepared 
 to attempt the CompTIA A+ Certification Exams (220-1101 & 220-1102)\, a glo
 bally recognized certification validating entry-level IT and technical supp
 ort skills.\n\nCareer Opportunities\nProfessionals with **CompTIA A+ certif
 ication can pursue roles such as:\n\n\nIT Support Specialist\n\n\nHelp Desk
  Technician\n\n\nTechnical Support Analyst\n\n\nDesktop Support Technician\
 n\n\nJunior Cybersecurity Support Staff
LOCATION:VEGA Institute\, 43-BND Building\, St. Jean Road\, Quatre Bornes\,
  Mauritius
DTSTAMP:20260423T144959Z
DTSTART:20260404T050000Z
DTEND:20260509T130000Z
END:VEVENT
END:VCALENDAR
